BEGIN:VCALENDAR
PRODID:-//eluceo/ical//2.0/EN
VERSION:2.0
CALSCALE:GREGORIAN
BEGIN:VEVENT
UID:9fe7d75c3952119b1db9aabc4137781d
DTSTAMP:20260421T212403Z
SUMMARY:Mike's Maze
DESCRIPTION:Jewish Federation of the Berkshires\nBerkshire Jewish Community
  Calendar\nhttps://jewishberkshires.org/jewish-federation-of-the-berkshire
 s-calendar/mikes-maze-1473794650\n\nMeet at 9:30 @Temple Anshe Amunim\n20.
 00 per person Lunch from the cafe at the Maze is included\nRSVP: ralemany4
 3@gmail.com\nWe are looking for parents to help drive!\n\n
DTSTART;TZID=America/New_York:20160925T093000
DTEND;TZID=America/New_York:20160925T143000
END:VEVENT
END:VCALENDAR
