BEGIN:VCALENDAR
PRODID:-//eluceo/ical//2.0/EN
VERSION:2.0
CALSCALE:GREGORIAN
BEGIN:VEVENT
UID:e475055e089655484ce1cbf5d665fb5d
DTSTAMP:20260423T195836Z
SUMMARY:Middle East Update 2019 with Ken Pollack
DESCRIPTION:Jewish Federation of the Berkshires\nBerkshire Jewish Community
  Calendar\nhttps://jewishberkshires.org/jewish-federation-of-the-berkshire
 s-calendar/middle-east-update-2019-with-ken-pollack\n\nMIDDLE EAST UPDATE 
 2019\nwith Kenneth M. Pollack\, PhD\n\n\nKenneth M. Pollack is an expert o
 n Middle Eastern political-military affairs\, with particular emphasis on 
 Iraq\, Iran\, Saudi Arabia and the other nations of the Persian Gulf regio
 n. A former CIA intelligence analyst and former director of the Center for
  Middle East Policy at the Bookings Institution\, Pollack is currently a r
 esident scholar at the American Enterprise Institute.\n\nThis program is f
 ree and open to the public 
DTSTART;TZID=America/New_York:20191110T140000
DTEND;TZID=America/New_York:20191110T153000
END:VEVENT
END:VCALENDAR
