BEGIN:VCALENDAR
PRODID:-//eluceo/ical//2.0/EN
VERSION:2.0
CALSCALE:GREGORIAN
BEGIN:VEVENT
UID:2c74935652c3d66804e9c24e822bd20d
DTSTAMP:20260424T063258Z
SUMMARY:Mid-East Update with Ralph Nurnberger
DESCRIPTION:Jewish Federation of the Berkshires\nBerkshire Jewish Community
  Calendar\nhttps://jewishberkshires.org/jewish-federation-of-the-berkshire
 s-calendar/mid-east-update-with-ralph-nurnberger\n\nMid-East Update
DTSTART;TZID=America/New_York:20131208T183000
DTEND;TZID=America/New_York:20131208T193000
END:VEVENT
END:VCALENDAR
