BEGIN:VCALENDAR
PRODID:-//eluceo/ical//2.0/EN
VERSION:2.0
CALSCALE:GREGORIAN
BEGIN:VEVENT
UID:5680d57b601f6d644dd4cd1cc4a4dc50
DTSTAMP:20260421T153805Z
SUMMARY:Mid East Update 2021: Threats & Opportunities
DESCRIPTION:Jewish Federation of the Berkshires\nBerkshire Jewish Community
  Calendar\nhttps://jewishberkshires.org/jewish-federation-of-the-berkshire
 s-calendar/mid-east-update-2021-threats-opportunities\n\nvia Zoom\n\nRegis
 ter Here  \n\nJoin two of America’s most experienced diplomatic and Mi
 ddle East specialists. Q&A to follow.\n\nDennis Ross is an American diplo
 mat and author. He has served as the Director of Policy Planning in the St
 ate Department under President George H.W. Bush\, the special Middle East 
 coordinator under President Bill Clinton\, and was a special adviser for t
 he Persian Gulf and Southwest Asia to the former Secretary of State Hillar
 y Clinton. Ambassador Ross has publish...
DTSTART;TZID=America/New_York:20211031T193000
DTEND;TZID=America/New_York:20211031T210000
END:VEVENT
END:VCALENDAR
