BEGIN:VCALENDAR
PRODID:-//eluceo/ical//2.0/EN
VERSION:2.0
CALSCALE:GREGORIAN
BEGIN:VEVENT
UID:7bd7cb0360cda968f94cd7e559375e59
DTSTAMP:20260421T192819Z
SUMMARY:Miami Area Berkshires Get-Together
DESCRIPTION:Jewish Federation of the Berkshires\nBerkshire Jewish Community
  Calendar\nhttps://jewishberkshires.org/jewish-federation-of-the-berkshire
 s-calendar/miami-area-berkshires-get-together\n\nJoin us in the Miami\, FL
  area to enjoy nosh and conversation while connecting with Berkshires fri
 ends. Hear from Federation President Arlene D. Schiff\, Executive Direct
 or Dara Kaufman\, and Senior Development Officer Rebekah Steinfeld about 
 all that has been happening in the Berkshires and plans for 2026!\n\nHoste
 d by Elaine and Danny Katz. The event address will be shared with register
 ed attendees the week before the event.\n\nSpace is limited and advanced 
 registration is required by Feb...
DTSTART;TZID=America/New_York:20260222T100000
DTEND;TZID=America/New_York:20260222T113000
END:VEVENT
END:VCALENDAR
