BEGIN:VCALENDAR
PRODID:-//eluceo/ical//2.0/EN
VERSION:2.0
CALSCALE:GREGORIAN
BEGIN:VEVENT
UID:a534c85c705da000588e76b6bf8a7dfd
DTSTAMP:20260424T052337Z
SUMMARY:#metoo: Changing Sexual Attitudes with Bonnie Saks\, MD
DESCRIPTION:Jewish Federation of the Berkshires\nBerkshire Jewish Community
  Calendar\nhttps://jewishberkshires.org/jewish-federation-of-the-berkshire
 s-calendar/metoo-changing-sexual-attitudes-with-bonnie-saks-md-1519137648\
 n\nHevreh member and Clinical Professor of Psychiatry at the University of
  South Florida\, Dr. Saks will explore current issues concerning sexual at
 titudes reaching all corners of our society resulting from the #metoo phen
 omenon.
DTSTART;TZID=America/New_York:20180709T093000
DTEND;TZID=America/New_York:20180709T113000
END:VEVENT
END:VCALENDAR
