BEGIN:VCALENDAR
PRODID:-//eluceo/ical//2.0/EN
VERSION:2.0
CALSCALE:GREGORIAN
BEGIN:VEVENT
UID:25a8a2d8c424294a41f900baa51c43cd
DTSTAMP:20260423T143520Z
SUMMARY:Men's Club Pancake Breakfast
DESCRIPTION:Jewish Federation of the Berkshires\nBerkshire Jewish Community
  Calendar\nhttps://jewishberkshires.org/jewish-federation-of-the-berkshire
 s-calendar/mens-club-pancake-breakfast\n\nMen’s Club Announces Pancake B
 reakfast!!\n\nWe are re-establishing the socially active Temple Men’s Cl
 ub and invite Temple members to participate. Make new acquaintances and tu
 rn them into friendships! Contribute what you learned while you were a mem
 ber at far away temples! What a great way to learn and enrich your own lif
 e while enriching others.\nJoin other Temple members on Sunday\, December 
 14\, at 9:30 a.m. for a luscious pancake breakfast. If you are lucky\, you
  might even get some cre...
DTSTART;TZID=America/New_York:20141214T093000
DTEND;TZID=America/New_York:20141214T113000
END:VEVENT
END:VCALENDAR
