BEGIN:VCALENDAR
PRODID:-//eluceo/ical//2.0/EN
VERSION:2.0
CALSCALE:GREGORIAN
BEGIN:VEVENT
UID:b1a79366360f2a91b966a6c9266ffcba
DTSTAMP:20260420T231321Z
SUMMARY:Menorah Workshop Home Depot
DESCRIPTION:Jewish Federation of the Berkshires\nBerkshire Jewish Community
  Calendar\nhttps://jewishberkshires.org/jewish-federation-of-the-berkshire
 s-calendar/menorah-workshop-home-depot-1446696333\n\nHome Depot will be sp
 onsoring a Menorah workshop at Home Depot!\nLearn how to make your own Men
 orah!\n
DTSTART;TZID=America/New_York:20151206T103000
DTEND;TZID=America/New_York:20151206T120000
END:VEVENT
END:VCALENDAR
