BEGIN:VCALENDAR
PRODID:-//eluceo/ical//2.0/EN
VERSION:2.0
CALSCALE:GREGORIAN
BEGIN:VEVENT
UID:3f2160bc2f7db625bd08d04881631ee4
DTSTAMP:20260419T203650Z
SUMMARY:Menorah Lighting & Soufganyot at Hevreh
DESCRIPTION:Jewish Federation of the Berkshires\nBerkshire Jewish Community
  Calendar\nhttps://jewishberkshires.org/jewish-federation-of-the-berkshire
 s-calendar/menorah-lighting--soufganyot-at-hevreh-1669236046\n\nThe whole 
 community is invited to join our Hebrew Skills students and families for a
  Chanukah candle lighting \, and special soufganyot treat as we light up t
 he 4th night of Chanukah.
DTSTART;TZID=America/New_York:20221221T173000
DTEND;TZID=America/New_York:20221221T200000
END:VEVENT
END:VCALENDAR
