BEGIN:VCALENDAR
PRODID:-//eluceo/ical//2.0/EN
VERSION:2.0
CALSCALE:GREGORIAN
BEGIN:VEVENT
UID:90badde82f73ba9801d6af757b445a65
DTSTAMP:20260423T153210Z
SUMMARY:Memorial Day Picnic--Connecting with Community Lunch
DESCRIPTION:Jewish Federation of the Berkshires\nBerkshire Jewish Community
  Calendar\nhttps://jewishberkshires.org/jewish-federation-of-the-berkshire
 s-calendar/memorial-day-picnic\n\nJoin us for a summer-time kosher Memoria
 l Day picnic lunch (indoors).  We welcome stories or memories to honor an
 d reflect on veterans in our lives.\n\nConversation with a home-cooked kos
 her lunch around our community table.  All are welcome! \n\nAdvance lunc
 h reservations are required and can be made by calling (413) 442-2200 befo
 re 9 a.m. on the day BEFORE the lunch (Wed).  Suggested donation of $3 f
 or adults over age 60.  $7 for all others.\n\nFederation makes these prog
 rams possible...
DTSTART;TZID=America/New_York:20260528T120000
DTEND;TZID=America/New_York:20260528T130000
END:VEVENT
END:VCALENDAR
