BEGIN:VCALENDAR
PRODID:-//eluceo/ical//2.0/EN
VERSION:2.0
CALSCALE:GREGORIAN
BEGIN:VEVENT
UID:a48263afb05bc33540009179acabb58c
DTSTAMP:20260424T072745Z
SUMMARY:Megillah Reading & Dinner
DESCRIPTION:Jewish Federation of the Berkshires\nBerkshire Jewish Community
  Calendar\nhttps://jewishberkshires.org/jewish-federation-of-the-berkshire
 s-calendar/megillah-reading--dinner-1550684251\n\nMegillah Reading & Dinne
 r\nTogether with Temple Anshe Amunim\, we'll serve a free dinner at 5:30\,
  then chant the story of the holiday from the scroll around 6:15. It's lig
 ht\, fun\, family-friendly\, maybe even a little silly. Please come in cos
 tume!
DTSTART;TZID=America/New_York:20190320T173000
DTEND;TZID=America/New_York:20190320T193000
END:VEVENT
END:VCALENDAR
