BEGIN:VCALENDAR
PRODID:-//eluceo/ical//2.0/EN
VERSION:2.0
CALSCALE:GREGORIAN
BEGIN:VEVENT
UID:07a6f6e9ddb7508156abf7668dc5885d
DTSTAMP:20260419T203823Z
SUMMARY:Meet the Author: Joan Leegant
DESCRIPTION:Jewish Federation of the Berkshires\nBerkshire Jewish Community
  Calendar\nhttps://jewishberkshires.org/jewish-federation-of-the-berkshire
 s-calendar/meet-the-author-joan-leegant-1731074488\n\nJoan Leegant\, a riv
 eting speaker who loves engaging with audiences\, will speak about the cre
 ative process and her book of short stories\, "Displaced Persons." The bo
 ok won the New American Fiction Prize and is a 2025 Finalist for the Natio
 nal Jewish Book Award for Fiction and a Finalist for the 2025 Association 
 of Jewish Libraries Award for Fiction. The book explores exile\, belonging
 \, and what it means to call a place home\, with half the stories in the c
 ollection set in Israel and half in the...
DTSTART;TZID=America/New_York:20250504T190000
DTEND;TZID=America/New_York:20250504T210000
END:VEVENT
END:VCALENDAR
