BEGIN:VCALENDAR
PRODID:-//eluceo/ical//2.0/EN
VERSION:2.0
CALSCALE:GREGORIAN
BEGIN:VEVENT
UID:76b807112fc127a22cf607126bb5fc60
DTSTAMP:20260420T013932Z
SUMMARY:MATINEE  Fiddler on the Roof at Taconic High School
DESCRIPTION:Jewish Federation of the Berkshires\nBerkshire Jewish Community
  Calendar\nhttps://jewishberkshires.org/jewish-federation-of-the-berkshire
 s-calendar/matinee-fiddler-on-the-roof-at-taconic-high-school\n\nTaconic H
 igh School Theatre Presents\n\nFiddler on the Roof\n\nGeneral Admission Ti
 ckets: $12 available at the door or online at TaconicFiddler.brownpapertic
 kets.com\n\nFor more information\, call 413-448-9634 or email jpassetto@pi
 ttsfield.net
DTSTART;TZID=America/New_York:20180324T140000
DTEND;TZID=America/New_York:20180324T163000
END:VEVENT
END:VCALENDAR
