BEGIN:VCALENDAR
PRODID:-//eluceo/ical//2.0/EN
VERSION:2.0
CALSCALE:GREGORIAN
BEGIN:VEVENT
UID:0d37ab716eae9cdab1e4c77f5dd8de9f
DTSTAMP:20260419T174129Z
SUMMARY:Matches Made in Heaven
DESCRIPTION:Jewish Federation of the Berkshires\nBerkshire Jewish Community
  Calendar\nhttps://jewishberkshires.org/jewish-federation-of-the-berkshire
 s-calendar/matches-made-in-heaven-1529076668\n\nWhat do we know of our anc
 estors&rsquo\; deepest commitments beyond the names and the dates? Follow 
 one immigrant family from New Orleans during the Civil War era through the
 ir move to New York City. Research methods from the Internet to the teleph
 one reveal how they survived war\, epidemic\, fire and who knows what else
  &ndash\; to leave loving legacies that inspire us all. The event is prese
 nted by Keren Weiner.\n\nThe program\, part of Temple Anshe Amunim&rsquo\;
 s &ldquo\;Lunch and Learn&rdquo\; series\, is Thursday\, July 19...
DTSTART;TZID=America/New_York:20180719T113000
DTEND;TZID=America/New_York:20180719T130000
END:VEVENT
END:VCALENDAR
