BEGIN:VCALENDAR
PRODID:-//eluceo/ical//2.0/EN
VERSION:2.0
CALSCALE:GREGORIAN
BEGIN:VEVENT
UID:dd32b415e6975d40669a1f3b5d9111d8
DTSTAMP:20260422T133503Z
SUMMARY:Martin Luther King\, Jr. Commemorated in Joint Service
DESCRIPTION:Jewish Federation of the Berkshires\nBerkshire Jewish Community
  Calendar\nhttps://jewishberkshires.org/jewish-federation-of-the-berkshire
 s-calendar/martin-luther-king-jr-commemorated-in-joint-service-1450202771\
 n\nJoin Rabbi Josh Breindel and Pastor Sheila Sholes-Ross for a joint serv
 ice commemorating Martin Luther King.  Music by the Temple Anshe Amunim an
 d First Baptist Church choirs.  Reception to follow.
DTSTART;TZID=America/New_York:20160115T190000
DTEND;TZID=America/New_York:20160115T201500
END:VEVENT
END:VCALENDAR
