BEGIN:VCALENDAR
PRODID:-//eluceo/ical//2.0/EN
VERSION:2.0
CALSCALE:GREGORIAN
BEGIN:VEVENT
UID:0dbfa7031f7b6b8e6c18dea5f14f7529
DTSTAMP:20260422T055544Z
SUMMARY:2026 Major Donors Celebration
DESCRIPTION:Jewish Federation of the Berkshires\nBerkshire Jewish Community
  Calendar\nhttps://jewishberkshires.org/jewish-federation-of-the-berkshire
 s-calendar/major-donors-celebration-2026\n\nCelebrating the leadership rol
 e major donors play in bringing comfort\, care\, and connection to our Jew
 ish community across the Berkshires\, in Israel\, and around the world. \
 n\nChairs: Mimi and Ken Heyman\n\nThis event is open to leadership donors 
 who make a minimum household contribution of $1\,000 or more to Jewish Fe
 deration of the Berkshires’ 2026 Annual Campaign.\n\n$45 Couvert. Advan
 ced Registration is required by July 17.\n\nNextGen adult children are
  invited to join their p...
DTSTART;TZID=America/New_York:20260726T093000
DTEND;TZID=America/New_York:20260726T113000
END:VEVENT
END:VCALENDAR
