BEGIN:VCALENDAR
PRODID:-//eluceo/ical//2.0/EN
VERSION:2.0
CALSCALE:GREGORIAN
BEGIN:VEVENT
UID:f294f533f8e5a13dba80ab9a648116aa
DTSTAMP:20260424T071258Z
SUMMARY:Mahjong at Hevreh
DESCRIPTION:Jewish Federation of the Berkshires\nBerkshire Jewish Community
  Calendar\nhttps://jewishberkshires.org/jewish-federation-of-the-berkshire
 s-calendar/mahjong-at-hevreh-1744912680\n\nMahjong players\, we heard you.
  Mahjong is coming to Hevreh! All levels are welcome––from beginner to
  expert. Take a first step or become an even better player. Join us\, play
 \, and enjoy some noshes.
DTSTART;TZID=America/New_York:20250710T140000
DTEND;TZID=America/New_York:20250710T170000
END:VEVENT
END:VCALENDAR
