BEGIN:VCALENDAR
PRODID:-//eluceo/ical//2.0/EN
VERSION:2.0
CALSCALE:GREGORIAN
BEGIN:VEVENT
UID:b307e050bc5110ff342a9fa864c34869
DTSTAMP:20260422T101034Z
SUMMARY:Mahjong
DESCRIPTION:Jewish Federation of the Berkshires\nBerkshire Jewish Community
  Calendar\nhttps://jewishberkshires.org/jewish-federation-of-the-berkshire
 s-calendar/mahjong-1762374072\n\nCome to Hevreh to learn and play Mahjong.
  If you have a card from the National Mahjong League\, please bring it wit
 h you!  Also\, please let us know if you can bring a Mahjong set or card
  table to the event. Suggested donation is $5. All levels are welcome. Las
 t day to register is December 9th.
DTSTART;TZID=America/New_York:20251211T130000
DTEND;TZID=America/New_York:20251211T150000
END:VEVENT
END:VCALENDAR
