BEGIN:VCALENDAR
PRODID:-//eluceo/ical//2.0/EN
VERSION:2.0
CALSCALE:GREGORIAN
BEGIN:VEVENT
UID:35291140d7817b304195c302144a4a94
DTSTAMP:20260424T064926Z
SUMMARY:Mah Jongg
DESCRIPTION:Jewish Federation of the Berkshires\nBerkshire Jewish Community
  Calendar\nhttps://jewishberkshires.org/jewish-federation-of-the-berkshire
 s-calendar/mah-jongg-at-temple-anshe-amunim-1747422881\n\nAll levels welco
 me. Please contact the office if you are interested in playing.
DTSTART;TZID=America/New_York:20250624T133000
DTEND;TZID=America/New_York:20250624T153000
END:VEVENT
END:VCALENDAR
