BEGIN:VCALENDAR
PRODID:-//eluceo/ical//2.0/EN
VERSION:2.0
CALSCALE:GREGORIAN
BEGIN:VEVENT
UID:d8ee22bfb0591f7c90ed79d8f23c35ac
DTSTAMP:20260421T080259Z
SUMMARY:Mah Jong with Berkshire Hills Hadassah
DESCRIPTION:Jewish Federation of the Berkshires\nBerkshire Jewish Community
  Calendar\nhttps://jewishberkshires.org/jewish-federation-of-the-berkshire
 s-calendar/mah-jong-with-berkshire-hills-hadassah-1625008325\n\nJOIN BERKS
 HIRE HILLS HADASSAH UNDER KNESSET ISRAEL'S TENT FOR MAH JONG ON\nFRIDAY - 
 JULY 30 AT 9: 30 AM WITH JUDITH WEINER AS OUR EXPERT\nRSVP TO DETERMINE HO
 W MANY TABLES AND MAH JONG SETS WE WILL REQUIRE\nREFRESHMENTS SERVED\nRSVP
  BY JULY 28 TO:ROSALINDKOPFSTEIN@GMAIL.COM\nLET'S HEAR THOSE CLICKS AGAIN
DTSTART;TZID=America/New_York:20210730T093000
DTEND;TZID=America/New_York:20210730T113000
END:VEVENT
END:VCALENDAR
