BEGIN:VCALENDAR
PRODID:-//eluceo/ical//2.0/EN
VERSION:2.0
CALSCALE:GREGORIAN
BEGIN:VEVENT
UID:4268ab571353f7afde5d319202f6296d
DTSTAMP:20260422T003711Z
SUMMARY:MA State Hate Crimes Task Force Update--Connecting with Community L
 unch
DESCRIPTION:Jewish Federation of the Berkshires\nBerkshire Jewish Community
  Calendar\nhttps://jewishberkshires.org/jewish-federation-of-the-berkshire
 s-calendar/ma-hate-crimes-task-force-update-connecting-with-community-lunc
 h\n\nDara Kaufman\, Executive Director of Jewish Federation of the Berkshi
 res will provide an update on the current work of the Massachusetts State 
 Hate Crimes Task Force.\n\nJoin us for conversation and a home-cooked kosh
 er lunch around our community table.  All are welcome! \n\nAdvance lunch
  reservations are required and can be made by calling (413) 442-2200 befor
 e 9 a.m. on the day of the program.  Suggested donation of $3 for adults 
 over age 60. $7 for all others.\n\nFederation makes these p...
DTSTART;TZID=America/New_York:20240530T120000
DTEND;TZID=America/New_York:20240530T130000
END:VEVENT
END:VCALENDAR
