BEGIN:VCALENDAR
PRODID:-//eluceo/ical//2.0/EN
VERSION:2.0
CALSCALE:GREGORIAN
BEGIN:VEVENT
UID:ce8e0ab86424febd5ea31248ccf2bb0f
DTSTAMP:20260423T062903Z
SUMMARY:Lunch n' Learn - Rabbi Haviva Ner-David
DESCRIPTION:Jewish Federation of the Berkshires\nBerkshire Jewish Community
  Calendar\nhttps://jewishberkshires.org/jewish-federation-of-the-berkshire
 s-calendar/lunch-n-learn---rabbi-haviva-ner-david-1686255438\n\nHevreh is 
 thrilled to welcome rabbi\, author\, and activist Haviva Ner-David for an 
 engaging afternoon of life-storytelling and learning. Rabbi Haviva\, who i
 s an author of fiction and memoir\, also runs the only pluralist mikveh in
  Israel\, where she officiates and creates mikveh ceremonies and facilitat
 es workshops for visiting groups. Rabbi Haviva is an activist building a s
 hared society among Arabs and Jews in the Galilee\, work that inspired her
  debut novel\, Hope Valley. She is also a...
DTSTART;TZID=America/New_York:20230816T120000
DTEND;TZID=America/New_York:20230816T133000
END:VEVENT
END:VCALENDAR
