BEGIN:VCALENDAR
PRODID:-//eluceo/ical//2.0/EN
VERSION:2.0
CALSCALE:GREGORIAN
BEGIN:VEVENT
UID:3ed7f2da957b46ea1b6a0d4c8dfec8cf
DTSTAMP:20260424T064615Z
SUMMARY:Lunch n' Learn - Confession is Good for the Soul
DESCRIPTION:Jewish Federation of the Berkshires\nBerkshire Jewish Community
  Calendar\nhttps://jewishberkshires.org/jewish-federation-of-the-berkshire
 s-calendar/lunch-n-learn---confession-is-good-for-the-soul-1686256116\n\nT
 hroughout the High Holy Days\, we recite the vidui\, a prayer in which we 
 confess the sins we have committed in the past year. Reciting vidui is a c
 ritical element of making t’shuvah on Rosh Hashanah and Yom Kippur. Join
  with Rabbi Hirsch and others to explore these particular prayers\, and he
 lp deepen your spiritual preparations for the High Holy Days. This series 
 is free and all are welcome\, in person and on Zoom. Please bring a kosher
 -style bag lunch.
DTSTART;TZID=America/New_York:20230830T114500
DTEND;TZID=America/New_York:20230830T114500
END:VEVENT
END:VCALENDAR
