BEGIN:VCALENDAR
PRODID:-//eluceo/ical//2.0/EN
VERSION:2.0
CALSCALE:GREGORIAN
BEGIN:VEVENT
UID:6caed4e79e9224b15007f29ca5a76b83
DTSTAMP:20260420T194215Z
SUMMARY:Lunch and Learn with Rabbi Josh
DESCRIPTION:Jewish Federation of the Berkshires\nBerkshire Jewish Community
  Calendar\nhttps://jewishberkshires.org/jewish-federation-of-the-berkshire
 s-calendar/lunch-and-learn-with-rabbi-josh-1478704333\n\nSummer Lecture an
 d Discussion with Rabbi Josh
DTSTART;TZID=America/New_York:20170628T120000
DTEND;TZID=America/New_York:20170628T133000
END:VEVENT
END:VCALENDAR
