BEGIN:VCALENDAR
PRODID:-//eluceo/ical//2.0/EN
VERSION:2.0
CALSCALE:GREGORIAN
BEGIN:VEVENT
UID:135c3b8ae92c5a9ad288fb016c0317e1
DTSTAMP:20260423T160756Z
SUMMARY:Lunch and Learn with Elizabeth Orenstein
DESCRIPTION:Jewish Federation of the Berkshires\nBerkshire Jewish Community
  Calendar\nhttps://jewishberkshires.org/jewish-federation-of-the-berkshire
 s-calendar/lunch-and-learn-with-elizabeth-orenstein-1551801903\n\n“See m
 y works\, how fine and excellent they are. All I have created\, I created 
 for you\, so please take good care of it. If you wreck it\, there will be 
 no one else to repair it other than you.” Ecclesiastes Rabbah\n\n \n\nE
 arly spring in the Berkshires brings the promise symbolized by the approac
 hing Passover holiday week. Gathering with loved ones and dipping fresh gr
 eens remind us why we chose the scenic Berkshire hills\, forests and towns
  to call “home.”\n\nSo it is fitting\, that we ...
DTSTART;TZID=America/New_York:20190406T120000
DTEND;TZID=America/New_York:20190406T140000
END:VEVENT
END:VCALENDAR
