BEGIN:VCALENDAR
PRODID:-//eluceo/ical//2.0/EN
VERSION:2.0
CALSCALE:GREGORIAN
BEGIN:VEVENT
UID:532b7b69b3d3db3063b11f358d402fea
DTSTAMP:20260419T174502Z
SUMMARY:Lunch and Learn with : Rabbi Pamela Wax: What is Mussar?
DESCRIPTION:Jewish Federation of the Berkshires\nBerkshire Jewish Community
  Calendar\nhttps://jewishberkshires.org/jewish-federation-of-the-berkshire
 s-calendar/lunch-and-learn-with--rabbi-pamela-wax-what-is-mussar-149088353
 9\n\nRabbi Wax teaches us how to bring the spiritual values of Judaism to 
 our daily lives.
DTSTART;TZID=America/New_York:20170826T120000
DTEND;TZID=America/New_York:20170826T140000
END:VEVENT
END:VCALENDAR
