BEGIN:VCALENDAR
PRODID:-//eluceo/ical//2.0/EN
VERSION:2.0
CALSCALE:GREGORIAN
BEGIN:VEVENT
UID:596721b997a92fe5d94a77b60b3f1913
DTSTAMP:20260420T235537Z
SUMMARY:Lunch and Learn at Temple Anshe Amunim
DESCRIPTION:Jewish Federation of the Berkshires\nBerkshire Jewish Community
  Calendar\nhttps://jewishberkshires.org/jewish-federation-of-the-berkshire
 s-calendar/lunch-and-learn-at-temple-anshe-amunim-1715803249\n\nBack to th
 e Soil: Pushing Jews Westward  with Cookie Lamet\n\nBetween 1880 and 192
 0 2 million Jews left their homes in Europe for urban America. This create
 d the image of the Jew solely as an urbanite. However\, there was an effor
 t to return to the soil and the Jewish colony of Clarion\, Utah was one at
 tempt to revive an agrarian life. In 1911\, 81 families left Eastern citie
 s to farm in Clarion. Come learn more about this fascinating time in Jewis
 h American history.
DTSTART;TZID=America/New_York:20240814T120000
DTEND;TZID=America/New_York:20240814T130000
END:VEVENT
END:VCALENDAR
