BEGIN:VCALENDAR
PRODID:-//eluceo/ical//2.0/EN
VERSION:2.0
CALSCALE:GREGORIAN
BEGIN:VEVENT
UID:3352dd0ac722f0e3588260d904441b5f
DTSTAMP:20260422T115930Z
SUMMARY:Lunch and Learn at Temple Anshe Amunim
DESCRIPTION:Jewish Federation of the Berkshires\nBerkshire Jewish Community
  Calendar\nhttps://jewishberkshires.org/jewish-federation-of-the-berkshire
 s-calendar/lunch-and-learn-at-temple-anshe-amunim-1715803155\n\nJoin Templ
 e Anshe Amunim's Facilities Manager Dave Wallace in a course on protecting
  yourself at home and when you travel.
DTSTART;TZID=America/New_York:20240807T120000
DTEND;TZID=America/New_York:20240807T130000
END:VEVENT
END:VCALENDAR
