BEGIN:VCALENDAR
PRODID:-//eluceo/ical//2.0/EN
VERSION:2.0
CALSCALE:GREGORIAN
BEGIN:VEVENT
UID:f7db569374fff829ea819a0509e2e0f3
DTSTAMP:20260422T030144Z
SUMMARY:Lunch and Learn at Temple Anshe Amunim
DESCRIPTION:Jewish Federation of the Berkshires\nBerkshire Jewish Community
  Calendar\nhttps://jewishberkshires.org/jewish-federation-of-the-berkshire
 s-calendar/lunch-and-learn-at-temple-anshe-amunim-1715802140\n\nHistoric H
 omes of Our Neighborhood with Alice Wislocki. We will look at some of the 
 historic homes near Temple Anshe Amunim and share information about ages a
 nd architects.\n\nWalking down Wendell Avenue to Colt Road\, then Bartlett
  Avenue to Pomeroy Avenue\, we will have a picnic lunch (bring a sandwich 
 and drink) in the garden of Alice's home on Pomeroy Avenue. Rain date June
  27. Registration is required.
DTSTART;TZID=America/New_York:20240626T120000
DTEND;TZID=America/New_York:20240626T130000
END:VEVENT
END:VCALENDAR
