BEGIN:VCALENDAR
PRODID:-//eluceo/ical//2.0/EN
VERSION:2.0
CALSCALE:GREGORIAN
BEGIN:VEVENT
UID:a0b6eceb712e654ac9607c9868870cfe
DTSTAMP:20260421T101147Z
SUMMARY:Louis Graveraet Kaufman: The Fabulous Michigan Jewish Gatsby
DESCRIPTION:Jewish Federation of the Berkshires\nBerkshire Jewish Community
  Calendar\nhttps://jewishberkshires.org/jewish-federation-of-the-berkshire
 s-calendar/louis-graveraet-kaufman-the-fabulous-michigan-jewish-gatsby\n\n
 Via Zoom.  Register HERE.\n\nJewish Literary Voices: A Federation Series 
 in collaboration with The Jewish Book Council\n\nThis fascinating biograph
 y recounts the life and legacy of a titan of American banking\, Louis Grav
 eraet Kaufman (1870–1942).  Also known at LG\, this fast moving narrati
 ve tells the story of a half Jewish\, part Indigenous man (1870-1942) from
  the Upper Peninsula who lived a wild\, Jazz Age life\, built one of the c
 ountry’s largest banks\, built a 26\,000 square-foot log l...
DTSTART;TZID=America/New_York:20251016T190000
DTEND;TZID=America/New_York:20251016T200000
END:VEVENT
END:VCALENDAR
