BEGIN:VCALENDAR
PRODID:-//eluceo/ical//2.0/EN
VERSION:2.0
CALSCALE:GREGORIAN
BEGIN:VEVENT
UID:817b16f2f8842d910626ade32e57e3e8
DTSTAMP:20260424T171158Z
SUMMARY:Live Music Under The Tent
DESCRIPTION:Jewish Federation of the Berkshires\nBerkshire Jewish Community
  Calendar\nhttps://jewishberkshires.org/jewish-federation-of-the-berkshire
 s-calendar/live-music-under-the-tent--\n\nJoin us for lunch and music unde
 r the tent
DTSTART;TZID=America/New_York:20210715T121500
DTEND;TZID=America/New_York:20210715T130000
END:VEVENT
END:VCALENDAR
