BEGIN:VCALENDAR
PRODID:-//eluceo/ical//2.0/EN
VERSION:2.0
CALSCALE:GREGORIAN
BEGIN:VEVENT
UID:2d8e56cf6a90893033323bfdad13dc41
DTSTAMP:20260422T011207Z
SUMMARY:Literatour: Author Kitty Zeldis Discusses "Not Our Kind"
DESCRIPTION:Jewish Federation of the Berkshires\nBerkshire Jewish Community
  Calendar\nhttps://jewishberkshires.org/jewish-federation-of-the-berkshire
 s-calendar/literatour-author-kitty-zeldis-discusses-not-our-kind-154049023
 2\n\n"Not Our Kind" illuminates the lives of two women - one Jewish\, one 
 a WASP - on the cusp of change and asks how much our pasts can and should 
 define our futures.\n\nFree for JCC members\, $5 general public
DTSTART;TZID=America/New_York:20190115T190000
DTEND;TZID=America/New_York:20190115T203000
END:VEVENT
END:VCALENDAR
