BEGIN:VCALENDAR
PRODID:-//eluceo/ical//2.0/EN
VERSION:2.0
CALSCALE:GREGORIAN
BEGIN:VEVENT
UID:2bf8c4d96ec6ef57a3747165375fafb7
DTSTAMP:20260421T210036Z
SUMMARY:Linda Greenhouse with Jewish Women's Foundation: SAVE THE DATE
DESCRIPTION:Jewish Federation of the Berkshires\nBerkshire Jewish Community
  Calendar\nhttps://jewishberkshires.org/jewish-federation-of-the-berkshire
 s-calendar/linda-greenhouse-with-jewish-womens-foundation-save-the-date\n\
 nJoin the Jewish Women's Foundation for a phenomenal conversation with Lin
 da Greenhouse\, American legal journalist who is a Senior Research Scholar
  in Law at Yale Law School. She is a Pulitzer Prize-winning reporter who 
 covered the United States Supreme Court for nearly three decades for The N
 ew York Times.  She is the author of Justice on the Brink: A Requieum for
  the Supreme Court.\n\nMore info to come.\n\nJustice on the Brink: A Requi
 em for the Supreme Court
DTSTART;TZID=America/New_York:20260724T110000
DTEND;TZID=America/New_York:20260724T120000
END:VEVENT
END:VCALENDAR
