BEGIN:VCALENDAR
PRODID:-//eluceo/ical//2.0/EN
VERSION:2.0
CALSCALE:GREGORIAN
BEGIN:VEVENT
UID:507c802e66b1294f5a87ee188283f9aa
DTSTAMP:20260421T141304Z
SUMMARY:Light Up The Berkshires: Kindred Laurel Lake
DESCRIPTION:Jewish Federation of the Berkshires\nBerkshire Jewish Community
  Calendar\nhttps://jewishberkshires.org/jewish-federation-of-the-berkshire
 s-calendar/light-up-the-berkshires-kindred-laurel-lake-1511900529\n\nLight
  the Chanukiah and sing songs with Rabbi Hirsch and Rabbi Gordon at 6:45!
DTSTART;TZID=America/New_York:20171213T184500
DTEND;TZID=America/New_York:20171213T194500
END:VEVENT
END:VCALENDAR
