BEGIN:VCALENDAR
PRODID:-//eluceo/ical//2.0/EN
VERSION:2.0
CALSCALE:GREGORIAN
BEGIN:VEVENT
UID:655979192f873cd24fb12e7e60dbb3ae
DTSTAMP:20260423T105553Z
SUMMARY:Light Up the Berkshires!  Seventh Night of Chanukah
DESCRIPTION:Jewish Federation of the Berkshires\nBerkshire Jewish Community
  Calendar\nhttps://jewishberkshires.org/jewish-federation-of-the-berkshire
 s-calendar/light-up-the-berkshires--seventh-night-of-chanukah-1448295814\n
 \nJoin us as we spread the light this Chanukah with celebrations for the w
 hole family throughout Berkshire county. There will be menorahs\, dreidels
 \, gelt\, and blessings for all. Please come and enjoy!
DTSTART;TZID=America/New_York:20151212T050000
DTEND;TZID=America/New_York:20151212T183000
END:VEVENT
END:VCALENDAR
