BEGIN:VCALENDAR
PRODID:-//eluceo/ical//2.0/EN
VERSION:2.0
CALSCALE:GREGORIAN
BEGIN:VEVENT
UID:601dd8782cf47f5d207d63578aafce7f
DTSTAMP:20260424T064710Z
SUMMARY:Light Up the Berkshires!  Eighth Night of Chanukah
DESCRIPTION:Jewish Federation of the Berkshires\nBerkshire Jewish Community
  Calendar\nhttps://jewishberkshires.org/jewish-federation-of-the-berkshire
 s-calendar/light-up-the-berkshires--eighth-night-of-chanukah-1448296063\n\
 nJoin us as we spread the light this Chanukah with celebrations for the wh
 ole family throughout Berkshire county. There will be menorahs\, dreidels\
 , gelt\, and blessings for all. Please come and enjoy!
DTSTART;TZID=America/New_York:20151213T170000
DTEND;TZID=America/New_York:20151213T183000
END:VEVENT
END:VCALENDAR
