BEGIN:VCALENDAR
PRODID:-//eluceo/ical//2.0/EN
VERSION:2.0
CALSCALE:GREGORIAN
BEGIN:VEVENT
UID:04b8153eab6e1c9e6a085897dddb7fd5
DTSTAMP:20260422T161341Z
SUMMARY:Lessons from the Olive Tree for Jewish Unity and the Social Securit
 y System
DESCRIPTION:Jewish Federation of the Berkshires\nBerkshire Jewish Community
  Calendar\nhttps://jewishberkshires.org/jewish-federation-of-the-berkshire
 s-calendar/lessons-from-the-olive-tree-for-jewish-unity-and-the-social-sec
 urity-system\n\nThe menorah was not the original symbol of Chanukah. Why d
 id it change? Why did the time of olive ripening become a day for matchmak
 ing? And how does the Talmud's view of olive connoisseurs\, the foodies of
  their day\, help to resolve a 500-year old Jewish argument? This presenta
 tion by TorahFlora botanist\, author and teacher Jon Greenberg\, PhD will 
 challenge you to think more deeply about the many beautiful and often surp
 rising symbolic meanings of the olive tree and how they resonate in our o.
 ..
DTSTART;TZID=America/New_York:20240718T104500
DTEND;TZID=America/New_York:20240718T120000
END:VEVENT
END:VCALENDAR
