BEGIN:VCALENDAR
PRODID:-//eluceo/ical//2.0/EN
VERSION:2.0
CALSCALE:GREGORIAN
BEGIN:VEVENT
UID:c1258cf01f90a0839800a154c5847150
DTSTAMP:20260421T205456Z
SUMMARY:Leonard Cohen's Mystical Midrash
DESCRIPTION:Jewish Federation of the Berkshires\nBerkshire Jewish Community
  Calendar\nhttps://jewishberkshires.org/jewish-federation-of-the-berkshire
 s-calendar/leonard-cohens-mystical-midrash\n\nSeth Rogovoy explores the de
 ep and profound influence of the Jewish background and scriptural roots of
  the late Leonard Cohen’s life and work. 
DTSTART;TZID=America/New_York:20210712T184500
DTEND;TZID=America/New_York:20210712T194500
END:VEVENT
END:VCALENDAR
