BEGIN:VCALENDAR
PRODID:-//eluceo/ical//2.0/EN
VERSION:2.0
CALSCALE:GREGORIAN
BEGIN:VEVENT
UID:7dbea447d8dbb3a4d44b2975cdbf8522
DTSTAMP:20260422T112630Z
SUMMARY:Leonard Bernstein Uncovered: Behind the Scenes at Tanglewood
DESCRIPTION:Jewish Federation of the Berkshires\nBerkshire Jewish Community
  Calendar\nhttps://jewishberkshires.org/jewish-federation-of-the-berkshire
 s-calendar/leonard-bernsten\n\nThe Jewish Federation of the Berkshires pre
 sents Knosh & Knowledge\, Leonard Bernstein Uncovered: Behind the Scenes w
 ith Martin Bookspan at Tanglewood
DTSTART;TZID=America/New_York:20180629T104500
DTEND;TZID=America/New_York:20180629T123000
END:VEVENT
END:VCALENDAR
