BEGIN:VCALENDAR
PRODID:-//eluceo/ical//2.0/EN
VERSION:2.0
CALSCALE:GREGORIAN
BEGIN:VEVENT
UID:b3b24b1d660062d708e28bf4f29e424f
DTSTAMP:20260420T111319Z
SUMMARY:Legacy of Seneca Falls: Dinner\, Presentation & Discussion
DESCRIPTION:Jewish Federation of the Berkshires\nBerkshire Jewish Community
  Calendar\nhttps://jewishberkshires.org/jewish-federation-of-the-berkshire
 s-calendar/legacy-of-seneca-falls-dinner-presentation--discussion-17476696
 72\n\nJoin Dr. Robyn L. Rosen\, Professor of History at Marist University\
 , to learn about the first women’s rights convention in US history. Enga
 ge in conversation about the current state of women’s rights. Registrati
 on is required. tinyurl.com/SenecaFallsDinner
DTSTART;TZID=America/New_York:20250723T173000
DTEND;TZID=America/New_York:20250723T193000
END:VEVENT
END:VCALENDAR
