BEGIN:VCALENDAR
PRODID:-//eluceo/ical//2.0/EN
VERSION:2.0
CALSCALE:GREGORIAN
BEGIN:VEVENT
UID:c96c22a7f28a45d397a1d90f30fea2a6
DTSTAMP:20260421T172414Z
SUMMARY:Lag B'Omer BBQ--Connecting with Community Lunch
DESCRIPTION:Jewish Federation of the Berkshires\nBerkshire Jewish Community
  Calendar\nhttps://jewishberkshires.org/jewish-federation-of-the-berkshire
 s-calendar/lag-bomer-bbq-connecting-with-community-lunch\n\nJoin us for a 
 delicious kosher lunch marking Lag B’Omer (the 33rd day between Passover
  and Shavuot) with delicious BBQ.\n\nConversation with a home-cooked koshe
 r lunch around our community table.  All are welcome! \n\nAdvance lunch 
 reservations are required and can be made by calling (413) 442-2200 before
  9 a.m. on the day BEFORE the lunch (Wed).  Suggested donation of $3 for
  adults over age 60.  $7 for all others.\n\nFederation makes these progra
 ms possible through the generous suppor...
DTSTART;TZID=America/New_York:20250515T000000
DTEND;TZID=America/New_York:20250515T130000
END:VEVENT
END:VCALENDAR
