BEGIN:VCALENDAR
PRODID:-//eluceo/ical//2.0/EN
VERSION:2.0
CALSCALE:GREGORIAN
BEGIN:VEVENT
UID:8632797925fd54f71275319aa7071ade
DTSTAMP:20260420T062040Z
SUMMARY:KUGELICIOUS-READING AND TASTING!
DESCRIPTION:Jewish Federation of the Berkshires\nBerkshire Jewish Community
  Calendar\nhttps://jewishberkshires.org/jewish-federation-of-the-berkshire
 s-calendar/kugelicious-reading-and-tasting-1416498960\n\nThe Old Creamery 
 in Cummington\, MA will host a book signing/reading event with local pictu
 re book author\, Joan Robb. She will read her new book\, KUGELICIOUS- a pi
 ed piper of puddings brings a community together to help build a sukkah fo
 r Sadie Goldberg\, an old woman who lives alone. Free kugel tastings to fo
 llow!
DTSTART;TZID=America/New_York:20141206T103000
DTEND;TZID=America/New_York:20141206T111500
END:VEVENT
END:VCALENDAR
