BEGIN:VCALENDAR
PRODID:-//eluceo/ical//2.0/EN
VERSION:2.0
CALSCALE:GREGORIAN
BEGIN:VEVENT
UID:68d8e0cc9d20e320b1bdbeae37e03e50
DTSTAMP:20260420T111010Z
SUMMARY:Knosh & Knowledge with Sonia Pilcer
DESCRIPTION:Jewish Federation of the Berkshires\nBerkshire Jewish Community
  Calendar\nhttps://jewishberkshires.org/jewish-federation-of-the-berkshire
 s-calendar/knosh-knowledge-with-sonia-pilcer\n\nJewish Federation Knosh & 
 Knowldge with author Sonia Pilcer
DTSTART;TZID=America/New_York:20160311T104500
DTEND;TZID=America/New_York:20160311T120000
END:VEVENT
END:VCALENDAR
