BEGIN:VCALENDAR
PRODID:-//eluceo/ical//2.0/EN
VERSION:2.0
CALSCALE:GREGORIAN
BEGIN:VEVENT
UID:80a7f04da5bd1f76a8fbcb7bcbdff933
DTSTAMP:20260421T193701Z
SUMMARY:Knesset Israel Shabbat Luncheon honoring Jeff Cook
DESCRIPTION:Jewish Federation of the Berkshires\nBerkshire Jewish Community
  Calendar\nhttps://jewishberkshires.org/jewish-federation-of-the-berkshire
 s-calendar/knesset-israel-shabbat-luncheon-honoring-jeff-cook-1510690793\n
 \nLuncheon honoring Jeff Cook being a past president at Knesset Israel
DTSTART;TZID=America/New_York:20180505T120000
DTEND;TZID=America/New_York:20180505T140000
END:VEVENT
END:VCALENDAR
