BEGIN:VCALENDAR
PRODID:-//eluceo/ical//2.0/EN
VERSION:2.0
CALSCALE:GREGORIAN
BEGIN:VEVENT
UID:bf68366a41ccf884809244563236b7ff
DTSTAMP:20260419T221852Z
SUMMARY:Knesset Israel presents Fran Bernitz\, CNE\, CGP\, AADP
DESCRIPTION:Jewish Federation of the Berkshires\nBerkshire Jewish Community
  Calendar\nhttps://jewishberkshires.org/jewish-federation-of-the-berkshire
 s-calendar/knesset-israel-presents-fran-bernitz-cne-cgp-aadp-1456255315\n\
 nFran Bernitz\nCNE (Certified Culinary Nutrition Expert)\,\nCertified Glut
 en Practitioner\, and\nAADP Certified Holistic Health Practitioner\n\nHow 
 can we eat “consciously”?\nHow can food-shopping be like caring for ou
 rselves and our planet?\nWhich recipes are delicious and health-giving?\n\
 nPlease join us to experience the knowledge and energy\nthat Fran will sha
 re with us on these evenings.\nBe prepared to ask questionsand open up you
 r kitchen to\nnew\, delicious plant-based possibilities!...
DTSTART;TZID=America/New_York:20160510T183000
DTEND;TZID=America/New_York:20160510T200000
END:VEVENT
END:VCALENDAR
