BEGIN:VCALENDAR
PRODID:-//eluceo/ical//2.0/EN
VERSION:2.0
CALSCALE:GREGORIAN
BEGIN:VEVENT
UID:51225729d60d8900788a3d00009ee9fe
DTSTAMP:20260420T062728Z
SUMMARY:Knesset Israel Commemorates Tisha B'av
DESCRIPTION:Jewish Federation of the Berkshires\nBerkshire Jewish Community
  Calendar\nhttps://jewishberkshires.org/jewish-federation-of-the-berkshire
 s-calendar/knesset-israel-commemorates-tisha-bav-1682348077\n\nKnesset Isr
 ael commemorates Tisha B'av on July 26-27. The day of mourning marks the a
 nniversary of the destruction of the First and Second Temples and provides
  an opportunity to reflect on loss and impermanence. Evening services on J
 uly 26 begin at 8:00 p.m. and include the chanting of the book of Lamentat
 ions by candlelight. Morning services on July 27 include the traditional T
 orah and Haftarah readings. The fast commences at 8:00 p.m. on Wednesday\,
  July 26\, and continues until 9:00 p.m. on ...
DTSTART;TZID=America/New_York:20230726T200000
DTEND;TZID=America/New_York:20230727T080000
END:VEVENT
END:VCALENDAR
