BEGIN:VCALENDAR
PRODID:-//eluceo/ical//2.0/EN
VERSION:2.0
CALSCALE:GREGORIAN
BEGIN:VEVENT
UID:71737c0868fe6ac6d0d3807256b60206
DTSTAMP:20260419T221912Z
SUMMARY:Knesset Israel Coffee House
DESCRIPTION:Jewish Federation of the Berkshires\nBerkshire Jewish Community
  Calendar\nhttps://jewishberkshires.org/jewish-federation-of-the-berkshire
 s-calendar/knesset-israel-coffee-house-1505482315\n\nSeven individual acts
  featuring diverse creative musical talents with individual accompaniment.
  Come spend a wonderful\, warm evening together with your friends and the 
 extended Berkshire community!\n\nLight Refreshments
DTSTART;TZID=America/New_York:20171112T193000
DTEND;TZID=America/New_York:20171112T223000
END:VEVENT
END:VCALENDAR
