BEGIN:VCALENDAR
PRODID:-//eluceo/ical//2.0/EN
VERSION:2.0
CALSCALE:GREGORIAN
BEGIN:VEVENT
UID:b84e84deef2272c93ffca98586626643
DTSTAMP:20260424T040156Z
SUMMARY:Knesset Israel Board Meeting
DESCRIPTION:Jewish Federation of the Berkshires\nBerkshire Jewish Community
  Calendar\nhttps://jewishberkshires.org/jewish-federation-of-the-berkshire
 s-calendar/knesset-israel-board-meeting-1605731005\n\nKnesset Israel Board
  of Directors Meeting
DTSTART;TZID=America/New_York:20201216T193000
DTEND;TZID=America/New_York:20201216T213000
END:VEVENT
END:VCALENDAR
