BEGIN:VCALENDAR
PRODID:-//eluceo/ical//2.0/EN
VERSION:2.0
CALSCALE:GREGORIAN
BEGIN:VEVENT
UID:2f88dc4856b75f6f555c6305426dc975
DTSTAMP:20260420T111527Z
SUMMARY:Knesset Israel Annual Meeting
DESCRIPTION:Jewish Federation of the Berkshires\nBerkshire Jewish Community
  Calendar\nhttps://jewishberkshires.org/jewish-federation-of-the-berkshire
 s-calendar/knesset-israel-annual-meeting-24789\n\nKI Annual Mtg
DTSTART;TZID=America/New_York:20130619T190000
DTEND;TZID=America/New_York:20130619T210000
END:VEVENT
END:VCALENDAR
