BEGIN:VCALENDAR
PRODID:-//eluceo/ical//2.0/EN
VERSION:2.0
CALSCALE:GREGORIAN
BEGIN:VEVENT
UID:8c3aa0a26c8d70f8d5e134089a13d71d
DTSTAMP:20260422T013244Z
SUMMARY:Knesset Israel  Shirei Shabbat
DESCRIPTION:Jewish Federation of the Berkshires\nBerkshire Jewish Community
  Calendar\nhttps://jewishberkshires.org/jewish-federation-of-the-berkshire
 s-calendar/knesset-israel--shirei-shabbat-1505406800\n\nMusical Kabbalat S
 habbat Service: 5:30pm Dinner: 6:30 pm\, $20 per adult
DTSTART;TZID=America/New_York:20180309T173000
DTEND;TZID=America/New_York:20180309T203000
END:VEVENT
END:VCALENDAR
